BEGIN:VCALENDAR
VERSION:2.0
BEGIN:VEVENT
URL:https://evelynhotel.oztix.com.au/outlet/event/52894971-f003-4aab-9961-80d6c2fa15fe
DTSTART:20211024T080000Z
DTEND:20211024T080000Z
SUMMARY:Tyr & Arkona
DESCRIPTION:Event details: https://evelynhotel.oztix.com.au/outlet/event/52894971-f003-4aab-9961-80d6c2fa15fe
LOCATION:The Evelyn Hotel (Fitzroy, VIC)
END:VEVENT
END:VCALENDAR