BEGIN:VCALENDAR
VERSION:2.0
BEGIN:VEVENT
URL:https://evelynhotel.oztix.com.au/outlet/event/98a6d0f1-284d-4543-a94a-1a44193c0d04
DTSTART:20210813T100000Z
DTEND:20210813T100000Z
SUMMARY:NEBULA (USA)
DESCRIPTION:Event details: https://evelynhotel.oztix.com.au/outlet/event/98a6d0f1-284d-4543-a94a-1a44193c0d04
LOCATION:The Evelyn Hotel (Fitzroy, VIC)
END:VEVENT
END:VCALENDAR